BEGIN:VCALENDAR
VERSION:2.0
PRODID:-//jEvents 2.0 for Joomla//EN
CALSCALE:GREGORIAN
METHOD:PUBLISH
BEGIN:VEVENT
UID:9b877732ea10bdda364cf8224538a0fe
CATEGORIES:Ausstellungen
CREATED:20220615T201949
SUMMARY:IGS-Klubschau (I)
LOCATION:Alsfeld
DESCRIPTION: \nRichterin Hündinnen:Fr. Renate Chiodi-Walraven (NL)Richter Rüden:Hr. Jan
  Ebels (NL)Inventarisierung:Fr. Renate Chiodi-WalravenAusstellungsleitung: 
 Christiane Weingarte Sonderleitung:Kerstin Röllig \nOnline-Anmeldung  (http
 s://macshot.de/igs2/)\nInformationen zum Download (downloads/category/46-kl
 ubschau-2023)\nBitte beachten Sie: Für eine Zuchtzulassung benötigen Sie zw
 ei Inventarisierungen. Der Abstand zwischen beiden muss mindestens 3 Monate
  betragen. Es ist also nicht möglich, beide Inventarisierungen an den beide
 n Klubschautagen durchzuführen.\n\n \nErgebnisse Alsfeld:\n3. Juni 2023 (ht
 tps://macshot.de/igs2/ergebnisse.php?d=03.06.23) \n4. Juni 2023  (https://m
 acshot.de/igs3/ergebnisse.php?d=04.06.23)\nBilder von Ulrike Henk (https://
 photos.google.com/share/AF1QipNRluwgFY_aLRV8IxR_VW3lL8bbcAm7AuEIEx4QW-SHxzD
 cTqpVHT6xm64R8ilo2w?pli=1&amp;key=WDdzUXc2NlBPWXVxd3ZxMXJfbVZzbHQwdEdBdlZB)
 \n
X-ALT-DESC;FMTTYPE=text/html:<p> </p><table style="height: 110px; width: 516px;"><tbody><tr style="heigh
 t: 18.9375px;"><td style="width: 186px; height: 18.9375px;"><span style="fo
 nt-size: 12pt;">Richterin Hündinnen:</span></td><td style="width: 314px; he
 ight: 18.9375px;"><span style="font-size: 12pt;">Fr. Renate Chiodi-Walraven
  (NL)</span></td></tr><tr style="height: 16px;"><td style="width: 186px; he
 ight: 16px;"><span style="font-size: 12pt;">Richter Rüden:</span></td><td s
 tyle="width: 314px; height: 16px;"><span style="font-size: 12pt;">Hr. Jan E
 bels (NL)</span></td></tr><tr style="height: 16px;"><td style="width: 186px
 ; height: 16px;"><span style="font-size: 12pt;">Inventarisierung:</span></t
 d><td style="width: 314px; height: 16px;"><span style="font-size: 12pt;">Fr
 . Renate Chiodi-Walraven</span></td></tr><tr style="height: 16px;"><td styl
 e="width: 186px; height: 16px;"><span style="font-size: 12pt;">Ausstellungs
 leitung: </span></td><td style="width: 314px; height: 16px;"><span style="f
 ont-size: 12pt;">Christiane Weingarte </span></td></tr><tr style="height: 1
 6px;"><td style="width: 186px; height: 16px;"><span style="font-size: 12pt;
 ">Sonderleitung:</span></td><td style="width: 314px; height: 16px;"><span s
 tyle="font-size: 12pt;">Kerstin Röllig</span></td></tr></tbody></table><p> 
 </p><p><span style="text-decoration: underline; font-size: 12pt; color: #00
 0000;"><strong><a style="color: #000000; text-decoration: underline;" href=
 "https://macshot.de/igs2/">Online-Anmeldung </a></strong></span></p><p><spa
 n style="text-decoration: underline; font-size: 12pt; color: #000000;"><str
 ong><a style="color: #000000; text-decoration: underline;" href="https://ww
 w.ig-schapendoes.de/downloads/category/46-klubschau-2023">Informationen zum
  Download</a></strong></span></p><p><span style="font-size: 12pt; color: #0
 00000;">Bitte beachten Sie: Für eine Zuchtzulassung benötigen Sie zwei Inve
 ntarisierungen. Der Abstand zwischen beiden muss mindestens 3 Monate betrag
 en. Es ist also nicht möglich, beide Inventarisierungen an den beiden Klubs
 chautagen durchzuführen.</span><span style="text-decoration: underline; fon
 t-size: 12pt; color: #000000;"><strong><br /></strong></span></p><p> </p><p
  style="text-align: left;"><span style="font-size: 10pt;"><strong>Ergebniss
 e Alsfeld:</strong></span></p><p style="text-align: left;"><span style="fon
 t-size: 10pt;"><a href="https://macshot.de/igs2/ergebnisse.php?d=03.06.23">
 3. Juni 2023</a> </span></p><p style="text-align: left;"><span style="font-
 size: 10pt;"><a href="https://macshot.de/igs3/ergebnisse.php?d=04.06.23">4.
  Juni 2023 </a></span></p><p style="text-align: left;"><span style="font-si
 ze: 10pt;"><a href="https://photos.google.com/share/AF1QipNRluwgFY_aLRV8IxR
 _VW3lL8bbcAm7AuEIEx4QW-SHxzDcTqpVHT6xm64R8ilo2w?pli=1&amp;key=WDdzUXc2NlBPW
 XVxd3ZxMXJfbVZzbHQwdEdBdlZB">Bilder von Ulrike Henk</a></span></p>
DTSTAMP:20260425T051325
DTSTART;VALUE=DATE:20230603
DTEND;VALUE=DATE:20230605
SEQUENCE:0
TRANSP:OPAQUE
END:VEVENT
END:VCALENDAR