BEGIN:VCALENDAR
VERSION:2.0
PRODID:-//jEvents 2.0 for Joomla//EN
CALSCALE:GREGORIAN
METHOD:PUBLISH
BEGIN:VEVENT
UID:bd8e581cd2370815a8ff85686fb3e74f
CATEGORIES:Ausstellungen
CREATED:20230108T115929
SUMMARY:IGS-Sonderschau Karlsruhe
LOCATION:Karlsruhe
DESCRIPTION:Sonderleiterin Kerstin Röllig an beiden Tagen\nRichterin am 11.11. Lisbeth 
 Mach \nRichter am 12.11. Jochen Eberhard (D)\nkeine Inventarisierung möglic
 h\n
X-ALT-DESC;FMTTYPE=text/html:<p><span style="font-size: 12pt;">Sonderleiterin Kerstin Röllig an beiden T
 agen</span></p><p><span style="font-size: 12pt;">Richterin am 11.11. Lisbet
 h Mach </span><br /><span style="font-size: 12pt;">Richter am 12.11. Jochen
  Eberhard (D)</span></p><p><span style="font-size: 12pt;">keine Inventarisi
 erung möglich</span></p>
DTSTAMP:20260425T145054
DTSTART;VALUE=DATE:20231111
DTEND;VALUE=DATE:20231113
SEQUENCE:0
TRANSP:OPAQUE
END:VEVENT
END:VCALENDAR