BEGIN:VCALENDAR
VERSION:2.0
PRODID:-//jEvents 2.0 for Joomla//EN
CALSCALE:GREGORIAN
METHOD:PUBLISH
BEGIN:VEVENT
UID:8a58f4ce08dd4350d1b61f8f6d37c9bb
CATEGORIES:Ausstellungen
CREATED:20230930T181027
SUMMARY:IGS-Sonderschau Offenburg (I)
LOCATION:Messe Offenburg
DESCRIPTION:Richterin: Beate Nobis\nSonderleiterin: Kerstin Röllig\nAnmeldung zur Inven
 tarisierung ausschliesslich per Mail an Kerstin Röllig (javascript:/* Diese
  E-Mail Adresse ist vor Spambots geschützt.*/)RegularLabs.EmailProtector.un
 Cloak("ep_826bd996", true); mit vollständigem Namen des Hundes, Zuchtbuchnu
 mmer sowie Name und Adresse des Halters.\n
X-ALT-DESC;FMTTYPE=text/html:<p><span style="font-size: 12pt;">Richterin: Beate Nobis</span></p><p><span
  style="font-size: 12pt;">Sonderleiterin: Kerstin Röllig</span></p><p>Anmel
 dung zur Inventarisierung ausschliesslich per Mail an <!-- Diese E-Mail Adr
 esse ist vor Spambots geschützt. --><a href="https://www.ig-schapendoes.de/
 javascript:/* Diese E-Mail Adresse ist vor Spambots gesch&uuml;tzt.*/">Kers
 tin Röllig<span class="cloaked_email ep_826bd996" style="display:none;"><sp
 an data-ep-a="a&#117;&#115;s&#116;&#101;" data-ep-b="&#101;"><span data-ep-
 a="&#108;&#108;&#117;n&#103;&#101;" data-ep-b="d&#111;&#101;s&#46;&#100;"><
 span data-ep-b="&#99;&#104;&#97;p&#101;&#110;" data-ep-a="n&#64;&#105;&#103
 ;&#45;&#115;"></span></span></span></span></a><script>RegularLabs.EmailProt
 ector.unCloak("ep_826bd996", true);</script> mit vollständigem Namen des Hu
 ndes, Zuchtbuchnummer sowie <strong>Name und Adresse des Halters</strong><s
 trong>.</strong></p>
CONTACT:https://www.vdhbw.de/vdh-bw/aktuelles/meldungen/2024-03-09-offenburg-ausstellung.php?navid=885276885276
DTSTAMP:20260425T224636
DTSTART;VALUE=DATE:20240310
DTEND;VALUE=DATE:20240311
SEQUENCE:0
TRANSP:OPAQUE
END:VEVENT
END:VCALENDAR