BEGIN:VCALENDAR
VERSION:2.0
PRODID:-//jEvents 2.0 for Joomla//EN
CALSCALE:GREGORIAN
METHOD:PUBLISH
BEGIN:VEVENT
UID:a066d9388c7f58332e98bc527652c036
CATEGORIES:Spaziergänge
CREATED:20231004T180854
SUMMARY:Doesje-Treff 
LOCATION:53797 Lohmar\, Pützerau 110
DESCRIPTION:Länge ca 6 km. Eine Einkehr im Anschluss ist möglich.\nAnmeldung per Mail a
 n Sylvia Schlepper. (javascript:/* Diese E-Mail Adresse ist vor Spambots ge
 schützt.*/)RegularLabs.EmailProtector.unCloak("ep_19c71874", true);\n
X-ALT-DESC;FMTTYPE=text/html:<p><span style="font-size: 12pt;">Länge ca 6 km. Eine Einkehr im Anschluss 
 ist möglich.</span><br /><span style="font-size: 12pt;">Anmeldung per <!-- 
 Diese E-Mail Adresse ist vor Spambots geschützt. --><a href="https://www.ig
 -schapendoes.de/javascript:/* Diese E-Mail Adresse ist vor Spambots gesch&u
 uml;tzt.*/">Mail an Sylvia Schlepper.<span class="cloaked_email ep_19c71874
 " style="display:none;"><span data-ep-b=".&#100;&#101;" data-ep-a="&#115;&#
 46;&#115;"><span data-ep-b="&#103;&#109;&#120;" data-ep-a="&#99;h&#108;"><s
 pan data-ep-b="&#101;&#114;&#64;" data-ep-a="ep&#112;"></span></span></span
 ></span></a><script>RegularLabs.EmailProtector.unCloak("ep_19c71874", true)
 ;</script></span></p>
DTSTAMP:20260423T164650
DTSTART:20231105T100000
SEQUENCE:0
TRANSP:OPAQUE
END:VEVENT
END:VCALENDAR