BEGIN:VCALENDAR
VERSION:2.0
PRODID:-//jEvents 2.0 for Joomla//EN
CALSCALE:GREGORIAN
METHOD:PUBLISH
BEGIN:VEVENT
UID:c48609ccff00dd897de69ef4a6312f14
CATEGORIES:Vereinstermine
CREATED:20231130T180353
SUMMARY:Mitgliederversammlung
LOCATION:Hotel Odenwaldblick\, Bulauweg 27\, 63322 Rödermark
DESCRIPTION:Im Rahmen der Mitgliederversammlung gibt es einen Vortrag zum Thema "Recht 
 beim und mit dem Hund" von Frau Müller, Rechtsanwältin\nZimmer im Hotel Ode
 nwaldblick können über die Mailadresse RegularLabs.EmailProtector.unCloak("
 ep_85004dd4"); (javascript:/* Diese E-Mail Adresse ist vor Spambots geschüt
 zt.*/)RegularLabs.EmailProtector.unCloak("ep_e67cde7c", true); oder telefon
 isch unter 06074 87440 mit Hinweis auf die IG Schapendoes e.V. gebucht werd
 en.\n
X-ALT-DESC;FMTTYPE=text/html:<p>Im Rahmen der Mitgliederversammlung gibt es einen Vortrag zum Thema "Rec
 ht beim und mit dem Hund" von Frau Müller, Rechtsanwältin</p><p>Zimmer im H
 otel Odenwaldblick können über die Mailadresse <!-- Diese E-Mail Adresse is
 t vor Spambots geschützt. --><a href="https://www.ig-schapendoes.de/javascr
 ipt:/* Diese E-Mail Adresse ist vor Spambots gesch&uuml;tzt.*/"><span class
 ="cloaked_email ep_85004dd4"><span data-ep-a="info&#64;" data-ep-b="&#101;"
 ><span data-ep-b="&#105;&#99;k&#46;d" data-ep-a="&#104;&#111;&#116;&#101;&#
 108;"><span data-ep-b="a&#108;&#100;bl" data-ep-a="&#111;&#100;&#101;&#110;
 &#119;"></span></span></span></span><script>RegularLabs.EmailProtector.unCl
 oak("ep_85004dd4");</script><span class="cloaked_email ep_e67cde7c" style="
 display:none;"><span data-ep-a="&#105;&#110;f&#111;&#64;" data-ep-b="&#101;
 "><span data-ep-b="&#105;ck.&#100;" data-ep-a="&#104;&#111;t&#101;&#108;"><
 span data-ep-b="&#97;&#108;&#100;b&#108;" data-ep-a="&#111;&#100;&#101;&#11
 0;&#119;"></span></span></span></span></a><script>RegularLabs.EmailProtecto
 r.unCloak("ep_e67cde7c", true);</script> oder telefonisch unter 06074 87440
  mit Hinweis auf die IG Schapendoes e.V. gebucht werden.</p>
CONTACT:https://www.hotelodenwaldblick.de
X-EXTRAINFO:Zimmerkontingent bis zum 04.09.2026 abrufbar\nWohnmobilstellplätze vorhande
 n
DTSTAMP:20260419T193629
DTSTART;VALUE=DATE:20260919
DTEND;VALUE=DATE:20260920
SEQUENCE:0
TRANSP:OPAQUE
END:VEVENT
END:VCALENDAR