BEGIN:VCALENDAR
VERSION:2.0
PRODID:-//jEvents 2.0 for Joomla//EN
CALSCALE:GREGORIAN
METHOD:PUBLISH
BEGIN:VEVENT
UID:c7d01738838d88dd4a048f7f162be536
CATEGORIES:Spaziergänge
CREATED:20231211T162340
SUMMARY:DoesjeTreff
LOCATION:D-53793 Lohmar\, Pützerau 110 
DESCRIPTION:Wir gehen ca. 3-5 km, überwiegend auf gut ausgebauten Wegen. Nur eine Teils
 trecke führt an einem Bach entlang und ist, je nach Wetterlage etwas matsch
 ig- sehr zur Freude der Doezen ;)Am Ende besteht die Möglichkeit in ein kle
 ines Café einzukehren.Läufige Hündinnen können leider nicht teilnehmen, auc
 h dann nicht wenn sie „nur“ noch attraktiv riechen. Die Rüden sind sonst ei
 nfach zu aufgedreht.Ich freue mich über eine rege Teilnahme! Veranstaltungs
 ort*  Anmeldung per Mail an Sylvia Schlepper (javascript:/* Diese E-Mail Ad
 resse ist vor Spambots geschützt.*/)RegularLabs.EmailProtector.unCloak("ep_
 89ee9835", true);\n
X-ALT-DESC;FMTTYPE=text/html:<div>Wir gehen ca. 3-5 km, überwiegend auf gut ausgebauten Wegen. Nur eine 
 Teilstrecke führt an einem Bach entlang und ist, je nach Wetterlage etwas m
 atschig- sehr zur Freude der Doezen ;)</div><div>Am Ende besteht die Möglic
 hkeit in ein kleines Café einzukehren.</div><div>Läufige Hündinnen können l
 eider nicht teilnehmen, auch dann nicht wenn sie „nur“ noch attraktiv riech
 en. Die Rüden sind sonst einfach zu aufgedreht.</div><div>Ich freue mich üb
 er eine rege Teilnahme!</div><div> </div><div>Veranstaltungsort* </div><div
 > </div><p><span style="font-size: 12pt;">Anmeldung per Mail an <!-- Diese 
 E-Mail Adresse ist vor Spambots geschützt. --><a href="https://www.ig-schap
 endoes.de/javascript:/* Diese E-Mail Adresse ist vor Spambots gesch&uuml;tz
 t.*/">Sylvia Schlepper<span class="cloaked_email ep_89ee9835" style="displa
 y:none;"><span data-ep-b="&#46;&#100;e" data-ep-a="S&#46;&#83;"><span data-
 ep-a="&#99;&#104;l" data-ep-b="&#103;&#109;&#120;"><span data-ep-b="&#101;&
 #114;&#64;" data-ep-a="&#101;&#112;p"></span></span></span></span></a><scri
 pt>RegularLabs.EmailProtector.unCloak("ep_89ee9835", true);</script></span>
 </p>
DTSTAMP:20260425T204631
DTSTART:20240211T103000
SEQUENCE:0
TRANSP:OPAQUE
END:VEVENT
END:VCALENDAR