BEGIN:VCALENDAR
VERSION:2.0
PRODID:-//jEvents 2.0 for Joomla//EN
CALSCALE:GREGORIAN
METHOD:PUBLISH
BEGIN:VEVENT
UID:40585caa5e0d5602f912257305b705e4
CATEGORIES:Ausstellungen
CREATED:20240919T122953
SUMMARY:IGS-Sonderschau Dortmund (I)
DESCRIPTION:Richter:\n09.11. - John Wauben\n10.11. - Beate Nobis\n
X-ALT-DESC;FMTTYPE=text/html:<p>Richter:</p><p>09.11. - John Wauben</p><p>10.11. - Beate Nobis</p>
CONTACT:https://www.onlinedogshows.eu/de/Show/Index/3773/HUND_PFERD_BundessiegerwithCruftsQ_Herbstsieger
DTSTAMP:20260422T154147
DTSTART;VALUE=DATE:20241110
DTEND;VALUE=DATE:20241111
SEQUENCE:0
TRANSP:OPAQUE
END:VEVENT
END:VCALENDAR