BEGIN:VCALENDAR
VERSION:2.0
PRODID:-//jEvents 2.0 for Joomla//EN
CALSCALE:GREGORIAN
METHOD:PUBLISH
BEGIN:VEVENT
UID:22ed53e4588c1f66920381eb86a76b82
CATEGORIES:Ausstellungen
CREATED:20201206T183702
SUMMARY:Ausstellung Loxstedt
LOCATION:27612 Loxstedt
DESCRIPTION:<p><span style="font-size: 10pt;">Richter:</span></p><p><span style="font-s
 ize: 10pt;">Samstag, 3. Juli - Herr Rolf Blessing</span></p><p><span style=
 "font-size: 10pt;">Sonntag, 4. Juli - Frau Regina Blessing</span></p><p><sp
 an style="font-size: 10pt;">Achtung: Es wird voraussichtlich eine Meldezahl
 begrenzung geben. Es besteht daher die Möglichkeit, dass die Schau schnell 
 ausgebucht ist.</span></p>
CONTACT:http://www.sheltieclub.de/Ausstellungen/Termine/temine.html (http://www.sheltieclub.de/Ausstellungen/Termine/temine.html)
DTSTAMP:20260425T232153
DTSTART;VALUE=DATE:20210703
DTEND;VALUE=DATE:20210705
SEQUENCE:0
TRANSP:OPAQUE
END:VEVENT
END:VCALENDAR