BEGIN:VCALENDAR
VERSION:2.0
PRODID:-//jEvents 2.0 for Joomla//EN
CALSCALE:GREGORIAN
METHOD:PUBLISH
BEGIN:VEVENT
UID:9c2d7d38f835504a784812ab7d42ebc3
CATEGORIES:Ausstellungen
CREATED:20221216T155747
SUMMARY:IGS-Sonderschau Dortmund
LOCATION:Messe Dortmund
DESCRIPTION:Richter: Hartmut Mohr\nSonderleitung: Nicole Freiholz\n
X-ALT-DESC;FMTTYPE=text/html:<p><span style="font-size: 12pt;">Richter: Hartmut Mohr</span></p><p><span 
 style="font-size: 12pt;">Sonderleitung: Nicole Freiholz</span></p>
DTSTAMP:20260424T185240
DTSTART;VALUE=DATE:20231104
DTEND;VALUE=DATE:20231105
SEQUENCE:0
TRANSP:OPAQUE
END:VEVENT
END:VCALENDAR