BEGIN:VCALENDAR
VERSION:2.0
PRODID:-//jEvents 2.0 for Joomla//EN
CALSCALE:GREGORIAN
METHOD:PUBLISH
BEGIN:VEVENT
UID:fac6cf1cf918d8891500ee860e8b2413
CATEGORIES:Ausstellungen
CREATED:20230320T180349
SUMMARY:Nachwuchsschau der IGS (I)
LOCATION:Alsfeld-Eudorf Wiese am Hotel Schäferhof
DESCRIPTION:Online Anmeldung (https://macshot.de/igs4/) für die Nachwuchsschau und die 
 Inventarisierung (Anmeldeschluss ist der 31.08.2024).\nDie Anmeldung überni
 mmt der Züchter für seine auszustellenden Junghunde.\nBitte denken Sie an e
 ine gültige Tollwutschutzimpfung und halten Sie den Nachweis (EU-Heimtierau
 sweis) parat. Hunde ohne diese werden nicht zur Veranstaltung zugelassen.\n
 Richter: Wilfried Knickmeier\nWiegen und Messen ab 08.30 Uhr\nBeginn des Ri
 chtens ab 10.00 Uhr\n \n
X-ALT-DESC;FMTTYPE=text/html:<p><a href="https://macshot.de/igs4/">Online Anmeldung</a> für die Nachwuch
 sschau und die Inventarisierung (Anmeldeschluss ist der 31.08.2024).</p><p>
 Die Anmeldung übernimmt der Züchter für seine auszustellenden Junghunde.</p
 ><p>Bitte denken Sie an eine gültige Tollwutschutzimpfung und halten Sie de
 n Nachweis (EU-Heimtierausweis) parat. Hunde ohne diese werden nicht zur Ve
 ranstaltung zugelassen.</p><p>Richter: Wilfried Knickmeier</p><p>Wiegen und
  Messen ab 08.30 Uhr</p><p>Beginn des Richtens ab 10.00 Uhr</p><p> </p>
DTSTAMP:20260423T194428
DTSTART;VALUE=DATE:20240914
DTEND;VALUE=DATE:20240915
SEQUENCE:0
TRANSP:OPAQUE
END:VEVENT
END:VCALENDAR