BEGIN:VCALENDAR
VERSION:2.0
PRODID:-//jEvents 2.0 for Joomla//EN
CALSCALE:GREGORIAN
METHOD:PUBLISH
BEGIN:VEVENT
UID:8be46bbf4af7eb6858822d425b37a565
CATEGORIES:Ausstellungen
CREATED:20230606T093025
SUMMARY:ESS 2024 (Europäische SchapendoesSchau)
LOCATION:Alsfeld
DESCRIPTION:<p><span style="font-size: 12pt;">Richter: </span></p><p><span style="font-
 size: 12pt;">Rüden: Wilfried Knickmeier</span></p><p><span style="font-size
 : 12pt;">Hündinnen: Beate Nobis</span></p><p><a href="downloads/31-klubscha
 u/55-klubschau-2024">Infos: </a></p>
X-ALT-DESC;FMTTYPE=text/html:<p><span style="font-size: 12pt;">Richter: </span></p><p><span style="font-
 size: 12pt;">Rüden: Wilfried Knickmeier</span></p><p><span style="font-size
 : 12pt;">Hündinnen: Beate Nobis</span></p><p><a href="https://www.ig-schape
 ndoes.de/downloads/31-klubschau/55-klubschau-2024">Infos: </a></p>
DTSTAMP:20260425T200325
DTSTART:20240608T060000
DTEND:20240608T150000
SEQUENCE:0
TRANSP:OPAQUE
END:VEVENT
END:VCALENDAR