BEGIN:VCALENDAR
VERSION:2.0
PRODID:-//jEvents 2.0 for Joomla//EN
CALSCALE:GREGORIAN
METHOD:PUBLISH
BEGIN:VEVENT
UID:f6225f10c2aedbaa3c05f39cf0fc58f3
CATEGORIES:Ausstellungen
CREATED:20230606T093102
SUMMARY:Klubschau 25 Jahre IGS
LOCATION:Alsfeld
DESCRIPTION:<p><span style="font-size: 12pt;">Richter:</span></p><p><span style="font-s
 ize: 12pt;">Rüden: Marion Brosch</span></p><p><span style="font-size: 12pt;
 ">Hündinnen: Hartmut Mohr </span></p><p><a href="downloads/31-klubschau/55-
 klubschau-2024"><span style="font-size: 12pt;">Infos</span></a></p>
X-ALT-DESC;FMTTYPE=text/html:<p><span style="font-size: 12pt;">Richter:</span></p><p><span style="font-s
 ize: 12pt;">Rüden: Marion Brosch</span></p><p><span style="font-size: 12pt;
 ">Hündinnen: Hartmut Mohr </span></p><p><a href="https://www.ig-schapendoes
 .de/downloads/31-klubschau/55-klubschau-2024"><span style="font-size: 12pt;
 ">Infos</span></a></p>
DTSTAMP:20260425T001448
DTSTART;VALUE=DATE:20240609
DTEND;VALUE=DATE:20240610
SEQUENCE:0
TRANSP:OPAQUE
END:VEVENT
END:VCALENDAR