BEGIN:VCALENDAR
VERSION:2.0
PRODID:-//jEvents 2.0 for Joomla//EN
CALSCALE:GREGORIAN
METHOD:PUBLISH
BEGIN:VEVENT
UID:36a1e56b82a94b02623665f2fb71ae5b
CATEGORIES:Ausstellungen
CREATED:20231110T174507
SUMMARY:IGS Sonderschau Bördeland (I)
LOCATION:Salzer Str. (gegenüber Nr. 11a)  39221 Bördeland
DESCRIPTION:<p><span style="font-size: 12pt;">Richter Herr Hartmut Mohr (D)</span></p><
 p><span style="font-size: 12pt;">Anmeldung: <span style="text-decoration: u
 nderline; color: #000000;"><strong><a style="color: #000000; text-decoratio
 n: underline;" href="https://macshot.de/igs1/">https://macshot.de/igs1/</a>
 </strong></span></span></p><p><span style="font-size: 12pt;">Anmeldeschluss
 : 10.04.2024</span></p><p><span style="font-size: 12pt;">Anmeldung ab 9.30 
 Uhr</span></p><p><span style="font-size: 12pt;">Beginn des Richtens: 11.00 
 Uhr</span></p><p><b>Meldegebühren:<br /></b><b>1.Hund 35€<br /></b><b>2.Hun
 d 30€<br /></b><b>jeder weitere Hund 20€<br /></b><b>Veteranenklasse 20€<br
  /></b><b>Jüngstenklasse 15€<br /></b><b>Babyklasse 10€</b></p><p><strong>1
 . Inventarisierung kostenlos</strong><br /><strong>2. Inventarisierung 30€<
 /strong></p><p><span style="font-size: 12pt;">Frühstück, Mittag, Kaffee wir
 d angeboten</span></p><p><span style="font-size: 12pt;">Camperstellplätze s
 ind vorhanden (incl. Stromanschluss), PKW-Parkplätze ebenfalls in ausreiche
 nder Anzahl</span></p><p><span style="font-size: 12pt;">Ebenfalls möglich: 
 <a href="https://www.ferienpark-ploetzky.de/">https://www.ferienpark-ploetz
 ky.de/</a>  Schöner Campingplatz, ca. 20 km entfernt</span></p><p> </p>
DTSTAMP:20260424T215615
DTSTART;VALUE=DATE:20240421
DTEND;VALUE=DATE:20240422
SEQUENCE:0
TRANSP:OPAQUE
END:VEVENT
END:VCALENDAR