BEGIN:VCALENDAR
VERSION:2.0
PRODID:-//jEvents 2.0 for Joomla//EN
CALSCALE:GREGORIAN
METHOD:PUBLISH
BEGIN:VEVENT
UID:30d340bcd02d3068b19e1a21f4419b64
CATEGORIES:Ausstellungen
CREATED:20140709T222939
SUMMARY:IGS Klubschau & Klubabend 2015
LOCATION:Alsfeld-Eudorf
DESCRIPTION:30. Mai 2015 - Samstag\nRichter: Marion Brosch (D), Hans-Ulrich Häberli (CH
 )\nSonderleitung: Hans Jacobs\n \nEinladung und Infomationsblatt stehen Ihn
 en im Downloadbereich (downloads/category/10-bhcf) zur Verfügung.\nInvitati
 on and information: download here. (downloads/category/10-bhcf)\n \nProgram
 m\nSamstag\n08:00 Uhr - Meldestelle\n10 Uhr Eröffnung durch unseren 1. Vors
 tand Wilfried Knickmeier\n10.15 Uhr Richterbeginn\nRing 1 Hr. Hans-Ulrich H
 äberli  52 Rüden\nVeteranenklasse 5\nEhrenklasse 2\nJüngstenklasse 3\nJugen
 dklasse 12\nZwischenklasse 4\n-----\nMittagspause 45 Min\n-----\nChampionkl
 asse 10\nOffene Klasse 16\nRing 2 Fr. Marion Brosch 45 Hündinnen\nVeteranen
 klasse 5\nEhrenklasse 2\nJüngstenklasse 7\nJugendklasse 7\n-----\nMittagspa
 use 45 Min\n-----\nZwischenklasse 6\nChampionklasse 5\nOffene Klasse 13 \nE
 ndring\nZuchtgruppe  Hr. Häberli\nPaarklasse    Fr. Brosch\nBester Jünsgter
 : Hr. Häberli\nBester Veteran: Fr. Brosch\nBester Junghund: Hr. Häberli\nBe
 ster Rüde: Hr. Häberli\nBeste Hündin: Fr. Brosch\nBOB: Hr. Häberli\n \nIm A
 nschluss \nRüdenparade\nSchapendoesrennen  \nAb ca 18 Uhr findet die Hauptp
 reisverlosung unserer Tombola statt, \nhierfür werden unter Tags Lose verka
 uft\n \n19:30 Uhr GRILLBUFFET am Sportplatzgelände \n \n \n \n
X-ALT-DESC;FMTTYPE=text/html:<p><strong>30. Mai 2015 - Samstag</strong></p><p><strong>Richter</strong>: 
 Marion Brosch (D), Hans-Ulrich Häberli (CH)</p><p><strong>Sonderleitung</st
 rong>: Hans Jacobs</p><p> </p><p><span style="line-height: 1.3em;">Einladun
 g und Infomationsblatt stehen Ihnen im</span><em><span style="line-height: 
 1.3em;"><strong> <a href="https://www.ig-schapendoes.de/downloads/category/
 10-bhcf">Downloadbereich</a></strong> </span></em><span style="line-height:
  1.3em;">zur Verfügung.</span></p><p>Invitation and information: <strong><e
 m><a href="https://www.ig-schapendoes.de/downloads/category/10-bhcf">downlo
 ad here.</a></em></strong></p><p> </p><p><strong><em>Programm<br /></em></s
 trong><strong>Samstag</strong></p><p>08:00 Uhr -<strong> Meldestelle</stron
 g></p><p>10 Uhr Eröffnung durch unseren 1. Vorstand Wilfried Knickmeier</p>
 <p>10.15 Uhr Richterbeginn</p><p><strong>Ring 1 Hr. Hans-Ulrich Häberli  52
  Rüden</strong></p><p style="text-align: left;">Veteranenklasse 5<br />Ehre
 nklasse 2<br />Jüngstenklasse 3<br />Jugendklasse 12<br />Zwischenklasse 4<
 br />-----<br />Mittagspause 45 Min<br />-----<br />Championklasse 10<br />
 Offene Klasse 16</p><p style="text-align: left;"><strong>Ring 2 Fr. Marion 
 Brosch 45 Hündinnen</strong></p><p>Veteranenklasse 5<br />Ehrenklasse 2<br 
 />Jüngstenklasse 7<br />Jugendklasse 7<br />-----<br />Mittagspause 45 Min<
 br />-----<br />Zwischenklasse 6<br />Championklasse 5<br />Offene Klasse 1
 3 </p><p style="text-align: left;"><strong>Endring</strong></p><p style="te
 xt-align: left;">Zuchtgruppe  Hr. Häberli<br />Paarklasse    Fr. Brosch<br 
 />Bester Jünsgter: Hr. Häberli<br />Bester Veteran: Fr. Brosch<br />Bester 
 Junghund: Hr. Häberli<br />Bester Rüde: Hr. Häberli<br />Beste Hündin: Fr. 
 Brosch<br />BOB: Hr. Häberli</p><p> </p><p>Im Anschluss </p><p><strong>Rüde
 nparade</strong></p><p><strong>Schapendoesrennen</strong>  </p><p>Ab ca 18 
 Uhr findet die <strong>Hauptpreisverlosung</strong> unserer Tombola statt, 
 <br />hierfür werden unter Tags Lose verkauft</p><p> </p><p>19:30 Uhr <stro
 ng>GRILLBUFFET</strong> am Sportplatzgelände </p><p> </p><p> </p><p> </p>
DTSTAMP:20260420T125558
DTSTART;VALUE=DATE:20150530
DTEND;VALUE=DATE:20150531
SEQUENCE:0
TRANSP:OPAQUE
END:VEVENT
END:VCALENDAR