BEGIN:VCALENDAR
VERSION:2.0
PRODID:-//jEvents 2.0 for Joomla//EN
CALSCALE:GREGORIAN
METHOD:PUBLISH
BEGIN:VEVENT
UID:9ecfc60c0775b4e5a7902f06827ae3e1
CATEGORIES:Ausstellungen
CREATED:20160106T123238
SUMMARY:German Winner Show Leipzig
DESCRIPTION:Richterin: Fr. Marion Brosch \nSonderleitung: Fr. Susanne Jakob\n2. Meldesc
 hluss: 13.07.2016\nStart am 21.01.2016: 13:30 Uhr, Ring 30, 10 Schapendoeze
 n\n \n \n
X-ALT-DESC;FMTTYPE=text/html:<p><span style="color: #000000; font-family: Verdana;">Richterin: </span><b
  style="color: #000000; font-family: Verdana;">Fr. Marion Brosch <br /></b>
 <span style="color: #000000; font-family: Verdana;">Sonderleitung: </span><
 b style="color: #000000; font-family: Verdana;">Fr. Susanne Jakob</b></p><p
 ><span style="color: #000000; font-family: Verdana;">2. Meldeschluss: 13.07
 .2016</span></p><p><span style="color: #000000; font-family: Verdana;">Star
 t am 21.01.2016: <strong>13:30 Uhr, Ring 30, 10 Schapendoezen</strong></spa
 n></p><p> </p><p> </p>
DTSTAMP:20260420T125553
DTSTART;VALUE=DATE:20160821
DTEND;VALUE=DATE:20160822
SEQUENCE:0
TRANSP:OPAQUE
END:VEVENT
END:VCALENDAR