BEGIN:VCALENDAR
VERSION:2.0
PRODID:-//jEvents 2.0 for Joomla//EN
CALSCALE:GREGORIAN
METHOD:PUBLISH
BEGIN:VEVENT
UID:8144eab94739843c5e43d6cd9652ce7f
CATEGORIES:Befreundete Clubs
CREATED:20150402T213940
SUMMARY:Euro Schapendoes - ESS 2015 - Italien
LOCATION:Volta Mantovana (MN)
DESCRIPTION:Die diesjährige Euro Schapendoes findet in Italien, Volta Mantovana (MN) ei
 nen Tag nach der World Dog Show (Mailand) statt.\n \nEs kann sofort gemelde
 t werden. \n1. Meldeschluss: 15. April 2015\n2. Meldeschluss: 15. Mai 2015\
 n \nAuf der Homepage des italienischen Schapendoesclub oder bei uns im Down
 loadbereich (downloads/category/10-bhcf) findet man ein Meldeformular. Wich
 tig für Essen, Camping und Übernachtungsmöglichkeiten. \nOnlinemeldung der 
 Hunde auch über https://macshot.de/sias/ (https://macshot.de/sias/)\n \nRic
 hter: \nA. Albrigo, I\nH. Hulrich Haberli, CH\n \n
X-ALT-DESC;FMTTYPE=text/html:<p>Die diesjährige Euro Schapendoes findet in Italien, <span style="color: 
 #000000; font-family: Calibri, sans-serif; font-size: 15px; line-height: 24
 px;">Volta Mantovana (MN)</span><span style="line-height: 1.3em;"> einen Ta
 g nach der World Dog Show (Mailand) statt.</span></p><p> </p><p><span style
 ="line-height: 1.3em;">Es kann sofort gemeldet werden. </span></p><p><span 
 style="line-height: 1.3em;">1. Meldeschluss: 15. April 2015</span></p><p><s
 pan style="line-height: 1.3em;">2. Meldeschluss: 15. Mai 2015</span></p><p>
  </p><p><span style="line-height: 1.3em;">Auf der Homepage des italienische
 n Schapendoesclub oder bei uns im <strong><em><a href="https://www.ig-schap
 endoes.de/downloads/category/10-bhcf">Downloadbereich</a></em></strong> fin
 det man ein Meldeformular. Wichtig für Essen, Camping und Übernachtungsmögl
 ichkeiten. </span></p><p><span style="line-height: 1.3em;">Onlinemeldung de
 r Hunde auch über <a href="https://macshot.de/sias/" target="_blank">https:
 //macshot.de/sias/</a></span></p><p> </p><p><span style="line-height: 1.3em
 ;">Richter: </span></p><p><span style="line-height: 1.3em;">A. Albrigo, I</
 span></p><p>H. Hulrich Haberli, CH</p><p> </p>
CONTACT:http://www.schapendoesclub.it/ (http://www.schapendoesclub.it/)
X-EXTRAINFO:\n\n\n
DTSTAMP:20260420T225710
DTSTART;VALUE=DATE:20150615
DTEND;VALUE=DATE:20150616
SEQUENCE:0
TRANSP:OPAQUE
END:VEVENT
END:VCALENDAR