BEGIN:VCALENDAR
VERSION:2.0
PRODID:-//jEvents 2.0 for Joomla//EN
CALSCALE:GREGORIAN
METHOD:PUBLISH
BEGIN:VEVENT
UID:d11c94a1a000d7a041e0c05c89520caf
CATEGORIES:Seminare
CREATED:20230502T092059
SUMMARY:Neuzüchterseminar
LOCATION:Herzberg
DESCRIPTION:
DTSTAMP:20260425T004547
DTSTART:20230520T080000
DTEND:20230520T150000
SEQUENCE:0
TRANSP:OPAQUE
END:VEVENT
END:VCALENDAR