BEGIN:VCALENDAR
VERSION:2.0
PRODID:-//jEvents 2.0 for Joomla//EN
CALSCALE:GREGORIAN
METHOD:PUBLISH
BEGIN:VEVENT
UID:950dc94533b5df5849fac6d33a9027c2
CATEGORIES:Seminare
CREATED:20260202T192300
SUMMARY:Neuzüchterseminar
LOCATION:Hotel Odenwaldblick 63322 Rödermark
DESCRIPTION:Anmeldung bitte an RegularLabs.EmailProtector.unCloak("ep_3bcd2daa"); (java
 script:/* Diese E-Mail Adresse ist vor Spambots geschützt.*/)RegularLabs.Em
 ailProtector.unCloak("ep_f4f30fc8", true);\n
X-ALT-DESC;FMTTYPE=text/html:<p>Anmeldung bitte an <!-- Diese E-Mail Adresse ist vor Spambots geschützt.
  --><a href="https://www.ig-schapendoes.de/javascript:/* Diese E-Mail Adres
 se ist vor Spambots gesch&uuml;tzt.*/"><span class="cloaked_email ep_3bcd2d
 aa"><span data-ep-b="d&#101;" data-ep-a="&#122;&#117;&#99;&#104;&#116;"><sp
 an data-ep-a="&#98;&#117;&#99;h&#64;" data-ep-b="do&#101;&#115;&#46;"><span
  data-ep-a="i&#103;-s&#99;" data-ep-b="h&#97;&#112;&#101;&#110;"></span></s
 pan></span></span><script>RegularLabs.EmailProtector.unCloak("ep_3bcd2daa")
 ;</script><span class="cloaked_email ep_f4f30fc8" style="display:none;"><sp
 an data-ep-b="&#100;e" data-ep-a="&#122;&#117;cht"><span data-ep-a="&#98;&#
 117;&#99;&#104;&#64;" data-ep-b="&#100;oe&#115;."><span data-ep-a="ig&#45;s
 &#99;" data-ep-b="&#104;&#97;&#112;&#101;&#110;"></span></span></span></spa
 n></a><script>RegularLabs.EmailProtector.unCloak("ep_f4f30fc8", true);</scr
 ipt></p>
DTSTAMP:20260421T051012
DTSTART;VALUE=DATE:20260920
DTEND;VALUE=DATE:20260921
SEQUENCE:0
TRANSP:OPAQUE
END:VEVENT
END:VCALENDAR