BEGIN:VCALENDAR
VERSION:2.0
PRODID:-//jEvents 2.0 for Joomla//EN
CALSCALE:GREGORIAN
METHOD:PUBLISH
BEGIN:VEVENT
UID:313c31f6b279ebc1d3187b86ea1526f9
CATEGORIES:Spaziergänge
CREATED:20230121T192615
SUMMARY:Spaziergang -ACHTUNG: entfällt-
LOCATION:Lindscheid 1\, 42929 Wermekskirchen
DESCRIPTION:Start: 13.00 Uhr\nDer etwas eingeschlafene  Doesje-Treff startet in diesem 
 Jahr mit einem abwechslungsreichen Spaziergang an der Dhünntalsperre. Die S
 trecke hat ein paar Steigungen und ausgewaschene Wegstrecken und es kann re
 cht matschig werden. Eine richtige Schmuddel-Doezen-Tour also. Ich hoffe di
 es wirkt nicht abschreckend und freue mich auf viele teilnehmende Doezen. E
 ine Einkehr ist wahrscheinlich nicht möglich.\nAnmeldung per mail an Regula
 rLabs.EmailProtector.unCloak("ep_0c126759");RegularLabs.EmailProtector.unCl
 oak("ep_739cdfb2", true);\n \n
X-ALT-DESC;FMTTYPE=text/html:<p><span style="text-decoration: line-through; font-size: 12pt;">Start: 13.
 00 Uhr</span></p><p><span style="text-decoration: line-through; font-size: 
 12pt;">Der etwas eingeschlafene  Doesje-Treff startet in diesem Jahr mit ei
 nem abwechslungsreichen Spaziergang an der Dhünntalsperre. Die Strecke hat 
 ein paar Steigungen und ausgewaschene Wegstrecken und es kann recht matschi
 g werden. Eine richtige Schmuddel-Doezen-Tour also. Ich hoffe dies wirkt ni
 cht abschreckend und freue mich auf viele teilnehmende Doezen. Eine Einkehr
  ist wahrscheinlich nicht möglich.</span></p><p><span style="text-decoratio
 n: line-through; font-size: 12pt;">Anmeldung per mail an <!-- Diese E-Mail 
 Adresse ist vor Spambots geschützt. --><a href="https://www.ig-schapendoes.
 de/javascript:/* Diese E-Mail Adresse ist vor Spambots gesch&uuml;tzt.*/"><
 span class="cloaked_email ep_0c126759"><span data-ep-a="S&#46;&#83;" data-e
 p-b="&#46;d&#101;"><span data-ep-a="&#99;h&#108;" data-ep-b="&#103;&#109;&#
 120;"><span data-ep-b="&#101;&#114;&#64;" data-ep-a="&#101;pp"></span></spa
 n></span></span><script>RegularLabs.EmailProtector.unCloak("ep_0c126759");<
 /script><span class="cloaked_email ep_739cdfb2" style="display:none;"><span
  data-ep-a="S&#46;&#83;" data-ep-b=".d&#101;"><span data-ep-b="gm&#120;" da
 ta-ep-a="&#99;&#104;&#108;"><span data-ep-b="&#101;&#114;&#64;" data-ep-a="
 &#101;&#112;&#112;"></span></span></span></span></a><script>RegularLabs.Ema
 ilProtector.unCloak("ep_739cdfb2", true);</script></span></p><p> </p>
CONTACT:https://maps.app.goo.gl/Pd3EvtNRbAGPXfXi7?g_st=iw
X-EXTRAINFO:Kontakt: Sylvia Schlepper
DTSTAMP:20260421T153436
DTSTART:20230212T120000
SEQUENCE:0
TRANSP:OPAQUE
END:VEVENT
END:VCALENDAR