BEGIN:VCALENDAR
VERSION:2.0
PRODID:-//jEvents 2.0 for Joomla//EN
CALSCALE:GREGORIAN
METHOD:PUBLISH
BEGIN:VEVENT
UID:86076722a5db4a47b720064122d7f75a
CATEGORIES:Spaziergänge
CREATED:20240216T172947
SUMMARY:DoesjeTreff
LOCATION:D-53793 Lohmar\, Pützerau 110 
DESCRIPTION:<div><p>Wir gehen ca. 3-5 km, überwiegend auf gut ausgebauten Wegen. Nur ei
 ne Teilstrecke führt an einem Bach entlang und ist, je nach Wetterlage etwa
 s matschig- sehr zur Freude unserer Doezen.</p><p>Am Ende besteht die Mögli
 chkeit in ein kleines Café einzukehren.</p><p>Läufige Hündinnen können leid
 er nicht teilnehmen, auch dann nicht wenn sie nur noch attraktiv riechen. D
 ie Rüden sind sonst einfach zu aufgedreht.</p><p>Ich freue mich über eine r
 egen Teilnahme, Anmeldung bitte per Mail an <!-- Diese E-Mail Adresse ist v
 or Spambots geschützt. --><span class="cloaked_email ep_672a97fd"><span dat
 a-ep-b="&#46;d&#101;" data-ep-a="&#83;&#46;S"><span data-ep-b="&#103;mx" da
 ta-ep-a="c&#104;l"><span data-ep-a="e&#112;&#112;" data-ep-b="e&#114;&#64;"
 ></span></span></span></span><script>RegularLabs.EmailProtector.unCloak("ep
 _672a97fd");</script>“</p></div><p> </p>
DTSTAMP:20260425T022000
DTSTART:20240310T103000
SEQUENCE:0
TRANSP:OPAQUE
END:VEVENT
END:VCALENDAR